BEGIN:VCALENDAR
VERSION:2.0
PRODID:icalendar-ruby
CALSCALE:GREGORIAN
METHOD:PUBLISH
BEGIN:VEVENT
DTSTAMP:20260421T085446Z
UID:5-332505@thekingdomwaychurch.com
DTSTART:20260906T173000Z
DTEND:20260906T183000Z
CLASS:PUBLIC
CREATED:20260304T111310
DESCRIPTION:Sunday Worship
LAST-MODIFIED:20260304T111310
LOCATION:
SUMMARY:Sunday Worship
URL;VALUE=URI:https://www.thekingdomwaychurch.com/events/sunday-worship/202
 6-09-06
END:VEVENT
END:VCALENDAR
