BEGIN:VCALENDAR
VERSION:2.0
PRODID:icalendar-ruby
CALSCALE:GREGORIAN
METHOD:PUBLISH
BEGIN:VEVENT
DTSTAMP:20260421T071326Z
UID:5-332504@thekingdomwaychurch.com
DTSTART:20260830T173000Z
DTEND:20260830T183000Z
CLASS:PUBLIC
CREATED:20260304T111310
DESCRIPTION:Sunday Worship
LAST-MODIFIED:20260304T111310
LOCATION:
SUMMARY:Sunday Worship
URL;VALUE=URI:https://www.thekingdomwaychurch.com/events/sunday-worship/202
 6-08-30
END:VEVENT
END:VCALENDAR
