BEGIN:VCALENDAR
VERSION:2.0
PRODID:icalendar-ruby
CALSCALE:GREGORIAN
METHOD:PUBLISH
BEGIN:VEVENT
DTSTAMP:20260421T085842Z
UID:7-332509@thekingdomwaychurch.com
DTSTART;VALUE=DATE:20260710
DTEND;VALUE=DATE:20260712
CLASS:PUBLIC
CREATED:20260412T120136
DESCRIPTION:
LAST-MODIFIED:20260412T120136
LOCATION:Dan & Kacee's Home
SUMMARY:Kingdom Camp
URL;VALUE=URI:https://www.thekingdomwaychurch.com/events/kingdom-camp/2026-
 07-10
ATTACH;FILENAME=8.png;FMTTYPE=image/png:https://dq5pwpg1q8ru0.cloudfront.ne
 t/2026/04/12/19/01/36/32ba8517-e9ce-4d9c-9285-829cdcf3f940/8.png
END:VEVENT
END:VCALENDAR
